BEGIN:VCALENDAR
VERSION:2.0
PRODID:-//The Haven - ECPv6.15.20//NONSGML v1.0//EN
CALSCALE:GREGORIAN
METHOD:PUBLISH
X-WR-CALNAME:The Haven
X-ORIGINAL-URL:https://the-haven.co
X-WR-CALDESC:Events for The Haven
REFRESH-INTERVAL;VALUE=DURATION:PT1H
X-Robots-Tag:noindex
X-PUBLISHED-TTL:PT1H
BEGIN:VTIMEZONE
TZID:Europe/London
BEGIN:DAYLIGHT
TZOFFSETFROM:+0000
TZOFFSETTO:+0100
TZNAME:BST
DTSTART:20250330T010000
END:DAYLIGHT
BEGIN:STANDARD
TZOFFSETFROM:+0100
TZOFFSETTO:+0000
TZNAME:GMT
DTSTART:20251026T010000
END:STANDARD
BEGIN:DAYLIGHT
TZOFFSETFROM:+0000
TZOFFSETTO:+0100
TZNAME:BST
DTSTART:20260329T010000
END:DAYLIGHT
BEGIN:STANDARD
TZOFFSETFROM:+0100
TZOFFSETTO:+0000
TZNAME:GMT
DTSTART:20261025T010000
END:STANDARD
BEGIN:DAYLIGHT
TZOFFSETFROM:+0000
TZOFFSETTO:+0100
TZNAME:BST
DTSTART:20270328T010000
END:DAYLIGHT
BEGIN:STANDARD
TZOFFSETFROM:+0100
TZOFFSETTO:+0000
TZNAME:GMT
DTSTART:20271031T010000
END:STANDARD
END:VTIMEZONE
BEGIN:VEVENT
DTSTART;TZID=Europe/London:20260426T180000
DTEND;TZID=Europe/London:20260426T190000
DTSTAMP:20260424T162603
CREATED:20240614T094840Z
LAST-MODIFIED:20260402T073836Z
UID:10002589-1777226400-1777230000@the-haven.co
SUMMARY:Krafty Kota
DESCRIPTION:You’re invited to join us in the Krafty Kota on Zoom to unwind and play alongside others. \n\n\n\nOur Krafty Kota is perfect if you have something creative you want to spend time on\, a challenge you want to explore (and maybe get support with)\, or simply want to feel connected to a small\, friendly group of humans. \n\n\n\nConversation and laughter tend to bubble and flow between comfortable silences. There’s no pre-planned agenda\, but meaningful threads often emerge. \n\n\n\nYou’re welcome to come and be. There’s no pressure to actively participate. Grab a mug of something tasty\, bring along your creative project if you have one\, and see what unfolds. \n\n\n\nJoin us on Sunday at 6pm UK time. \n\n\n\n\n\n\n\n\nProtected Event\n\n\n\nAre you a Haven member? Login to access this event. Not yet a member? Register here.
URL:https://the-haven.co/event/krafty-kota/2026-04-26/
CATEGORIES:Member Events
ATTACH;FMTTYPE=image/jpeg:https://the-haven.co/wp-content/uploads/2024/06/Krafty-Kota-Event-pic-3840-×-2160-px.jpg
LOCATION:https://the-haven.co/event/krafty-kota/2026-04-26/
END:VEVENT
END:VCALENDAR